BEGIN:VCALENDAR
VERSION:2.0
PRODID:icalendar-ruby
CALSCALE:GREGORIAN
METHOD:PUBLISH
BEGIN:VEVENT
DTSTAMP:20260420T080447Z
UID:50-1054348@holytrinitysooke.ca
DTSTART:20260503T010000Z
DTEND:20260503T030000Z
CLASS:PUBLIC
CREATED:20260418T224351
DESCRIPTION:Questions?  Call  Liz at the office.   250 642 3172\n 
LAST-MODIFIED:20260418T224351
LOCATION:1962 Murray Rd\, Sooke
SUMMARY:Annual Ethnic Dinner
URL;VALUE=URI:https://www.holytrinitysooke.ca/events/annual-ethnic-dinner/2
 026-05-02
END:VEVENT
END:VCALENDAR
